Workbook

Sheet PRICES OFFER
B6: Annex 3 : Quality and prices offer
B8: Name of the tenderer:
B10: Procedure reference: | D10: 2023_06 SCHOOL TRANSPORT SERVICES BY BUS
B12: Fill in and sign the table together with the offer
B14: SCENARIO | C14: Description | F14: OFFER: TOTAL PRICES WITHOUT TVA
B15: 1 | C15: 1 day trip from ESMOL to Mechelen (BE) Boarding point: European School– 2400 Mol (BE) - Start at 9:00 am - End return to Mol at 3:45 pm - Number of students: 120 - Number of accompanying teachers: 10 Total Kilometres: 180 kms
B16: 2 | C16: 1 day trip from ESMOL to Aachen (GER) Boarding point: European School– 2400 Mol (BE) - Start at 7:45 am - End return to Mol at 6:30 p.m. - Number of students: 60 - Number of accompanying teachers: 4 Total Kilometres: 220 Kms
B17: 3 | C17: 1 day trip from ESMOL to Middelburg (NL) Boarding point: European School– 2400 Mol - Start 7:30 am - End return to Mol at 5.30 pm - Number of students: 32 - Number of accompanying teachers: 3 - Total Kilometres: 270 km
B18: 4 | C18: 1 day trip from ESMOL to Antwerp (BE) Boarding point: European School– 2400 Mol - Start at 10:30 am - End return to Mol at 6:30 pm - Number of students: 17 - Number of accompanying teachers: 3 - Total Kilometres: 140 kms
B21: Name, Surname, Function of the duly authorized representative of the tenderer:
B24: Date:
B26: Signature :

Sheet MINIVAN (1-8)
B2: MINIVAN between 1 to 8 seats
B3: between 9 to12 seats | C3: Number of Vehicles | D3: Avegrage age of Available vehicles (All) | E3: TOILET | F3: AIR CONDITIONING | G3: Number of buses with access system adapted for people with reduced mobility
B4: NUMBER OF SEATS | C4: CARPLATE NUMBER | D4: REGISTRATION DATE | E4: YES OR NOT | F4: YES OR NOT | G4: YES OR NOT
A5: 1
A6: 2
A7: 3
A8: 4
A9: 5
A10: 6
A11: 7
A12: 8
A13: 9
A14: 10
A15: 11
A16: 12
... A107: 103

Sheet MICROBUS 9-12
B2: MICROBUS between 9 to12 seats
B3: between 9 to12 seats | C3: Number of Vehicles | D3: Avegrage age of Available vehicles (All) | E3: TOILET | F3: AIR CONDITIONING | G3: Number of buses with access system adapted for people with reduced mobility
B4: NUMBER OF SEATS | C4: CARPLATE NUMBER | D4: REGISTRATION DATE | E4: YES OR NOT | F4: YES OR NOT | G4: YES OR NOT
A5: 1
A6: 2
A7: 3
A8: 4
A9: 5
A10: 6
A11: 7
A12: 8
A13: 9
A14: 10
A15: 11
A16: 12
... A107: 103

Sheet MINIBUS 13-22
B2: MINIBUS between 13 to 22 seats
B3: between 9 to12 seats | C3: Number of Vehicles | D3: Avegrage age of Available vehicles (All) | E3: TOILET | F3: AIR CONDITIONING | G3: Number of buses with access system adapted for people with reduced mobility
B4: NUMBER OF SEATS | C4: CARPLATE NUMBER | D4: REGISTRATION DATE | E4: YES OR NOT | F4: YES OR NOT | G4: YES OR NOT
A5: 1
A6: 2
A7: 3
A8: 4
A9: 5
A10: 6
A11: 7
A12: 8
A13: 9
A14: 10
A15: 11
A16: 12
... A107: 103

Sheet MIDIBUS 23-30
B2: MIDIBUS between 23 to 30 seats
B3: between 9 to12 seats | C3: Number of Vehicles | D3: Avegrage age of Available vehicles (All) | E3: TOILET | F3: AIR CONDITIONING | G3: Number of buses with access system adapted for people with reduced mobility
B4: NUMBER OF SEATS | C4: CARPLATE NUMBER | D4: REGISTRATION DATE | E4: YES OR NOT | F4: YES OR NOT | G4: YES OR NOT
A5: 1
A6: 2
A7: 3
A8: 4
A9: 5
A10: 6
A11: 7
A12: 8
A13: 9
A14: 10
A15: 11
A16: 12
... A107: 103

Sheet STANDAR BUS 31-54
B2: ESTÁNDAR BUS between 31 to 54 seats
B3: between 9 to12 seats | C3: Number of Vehicles | D3: Avegrage age of Available vehicles (All) | E3: TOILET | F3: AIR CONDITIONING | G3: Number of buses with access system adapted for people with reduced mobility
B4: NUMBER OF SEATS | C4: CARPLATE NUMBER | D4: REGISTRATION DATE | E4: YES OR NOT | F4: YES OR NOT | G4: YES OR NOT
A5: 1
A6: 2
A7: 3
A8: 4
A9: 5
A10: 6
A11: 7
A12: 8
A13: 9
A14: 10
A15: 11
A16: 12
... A107: 103

Sheet GREAT CAPACITY 55-69
B2: GREAT CAPACITY BUS between 55 to 69 seats
B3: between 9 to12 seats | C3: Number of Vehicles | D3: Avegrage age of Available vehicles (All) | E3: TOILET | F3: AIR CONDITIONING | G3: Number of buses with access system adapted for people with reduced mobility
B4: NUMBER OF SEATS | C4: CARPLATE NUMBER | D4: REGISTRATION DATE | E4: YES OR NOT | F4: YES OR NOT | G4: YES OR NOT
A5: 1
A6: 2
A7: 3
A8: 4
A9: 5
A10: 6
A11: 7
A12: 8
A13: 9
A14: 10
A15: 11
A16: 12
... A107: 103

Sheet TROLLEYBUS +70
B2: TROLLEYBUS between +70 seats
B3: between 9 to12 seats | C3: Number of Vehicles | D3: Avegrage age of Available vehicles (All) | E3: TOILET | F3: AIR CONDITIONING | G3: Number of buses with access system adapted for people with reduced mobility
B4: NUMBER OF SEATS | C4: CARPLATE NUMBER | D4: REGISTRATION DATE | E4: YES OR NOT | F4: YES OR NOT | G4: YES OR NOT
A5: 1
A6: 2
A7: 3
A8: 4
A9: 5
A10: 6
A11: 7
A12: 8
A13: 9
A14: 10
A15: 11
A16: 12
... A107: 103

Sheet QUALITY OFFER
B6: Annex 3 : Quality and prices offer
B8: Name of the tenderer:
B10: Procedure reference: | D10: 2023_06 SCHOOL TRANSPORT SERVICES BY BUS
B12: Fill in and sign the table together with the offer
B14: TYPE | C14: Capacity | F14: Number of Vehicles | G14: Avegrage age of Available vehicles (10 first newest) | H14: Number of Busses with Toilet | I14: Number of Busses with Air conditioning | J14: Number of buses with access system adapted for people with reduced mobility
B15: MINIVAN | C15: (9 seats incl. driver): up to 8 seats | F15: =COUNTA('MINIVAN (1-8)'!C5:C107) -> 0 | G15: =AVERAGE('MINIVAN (1-8)'!D5:D14) -> #DIV/0! | H15: =COUNTA('MINIVAN (1-8)'!E5:E107) -> 0 | I15: =COUNTA('MINIVAN (1-8)'!F5:F107) -> 0 | J15: =COUNTA('MINIVAN (1-8)'!G5:G107) -> 0
A16: 1 | B16: MICROBUS | C16: between 9 to12 seats | F16: =COUNTA('MICROBUS 9-12'!C5:C107) -> 0 | G16: =AVERAGE('MICROBUS 9-12'!D5:D14) -> #DIV/0! | H16: =COUNTA('MICROBUS 9-12'!E5:E107) -> 0 | I16: =COUNTA('MICROBUS 9-12'!F5:F107) -> 0 | J16: =COUNTA('MICROBUS 9-12'!G5:G107) -> 0
A17: 2 | B17: MINIBUS | C17: between 13 to 22 seats | F17: =COUNTA('MINIBUS 13-22'!C5:C107) -> 0 | G17: =AVERAGE('MINIBUS 13-22'!D5:D14) -> #DIV/0! | H17: =COUNTA('MINIBUS 13-22'!E5:E107) -> 0 | I17: =COUNTA('MINIBUS 13-22'!F5:F107) -> 0 | J17: =COUNTA('MINIBUS 13-22'!G5:G107) -> 0
A18: 3 | B18: MIDIBUS | C18: between 23 to 30 seats | F18: =COUNTA('MIDIBUS 23-30'!C5:C107) -> 0 | G18: =AVERAGE('MIDIBUS 23-30'!D5:D14) -> #DIV/0! | H18: =COUNTA('MIDIBUS 23-30'!E5:E107) -> 0 | I18: =COUNTA('MIDIBUS 23-30'!F5:F107) -> 0 | J18: =COUNTA('MIDIBUS 23-30'!G5:G107) -> 0
A19: 4 | B19: STANDARD BUS | C19: between 31 to 54 seats | F19: =COUNTA('STANDAR BUS 31-54'!C5:C107 ) -> 0 | G19: =AVERAGE('STANDAR BUS 31-54'!D5:D14) -> #DIV/0! | H19: =COUNTA('STANDAR BUS 31-54'!E5:E107 ) -> 0 | I19: =COUNTA('STANDAR BUS 31-54'!F5:F107 ) -> 0 | J19: =COUNTA('STANDAR BUS 31-54'!G5:G107 ) -> 0
A20: 5 | B20: GREAT CAPACITY | C20: between 55 to 69 seats | F20: =COUNTA('GREAT CAPACITY 55-69'!C5:C107 ) -> 0 | G20: =AVERAGE('GREAT CAPACITY 55-69'!D5:D14) -> #DIV/0! | H20: =COUNTA('GREAT CAPACITY 55-69'!E5:E107 ) -> 0 | I20: =COUNTA('GREAT CAPACITY 55-69'!F5:F107 ) -> 0 | J20: =COUNTA('GREAT CAPACITY 55-69'!G5:G107 ) -> 0
A21: 6 | B21: TROLLEYBUS | C21: more than 70 seats | F21: =COUNTA('TROLLEYBUS +70'!C5:C107 ) -> 0 | G21: =AVERAGE('TROLLEYBUS +70'!D5:D14) -> #DIV/0! | H21: =COUNTA('TROLLEYBUS +70'!E5:E107 ) -> 0 | I21: =COUNTA('TROLLEYBUS +70'!F5:F107 ) -> 0 | J21: =COUNTA('TROLLEYBUS +70'!G5:G107 ) -> 0
B23: Name, Surname, Function of the duly authorized representative of the tenderer:
B26: Date:
B28: Signature :
